BEGIN:VCALENDAR
VERSION:2.0
PRODID:-//En Face Magazine - ECPv6.15.20//NONSGML v1.0//EN
CALSCALE:GREGORIAN
METHOD:PUBLISH
X-ORIGINAL-URL:https://enfacemagazine.com
X-WR-CALDESC:Events for En Face Magazine
REFRESH-INTERVAL;VALUE=DURATION:PT1H
X-Robots-Tag:noindex
X-PUBLISHED-TTL:PT1H
BEGIN:VTIMEZONE
TZID:America/New_York
BEGIN:DAYLIGHT
TZOFFSETFROM:-0500
TZOFFSETTO:-0400
TZNAME:EDT
DTSTART:20250309T070000
END:DAYLIGHT
BEGIN:STANDARD
TZOFFSETFROM:-0400
TZOFFSETTO:-0500
TZNAME:EST
DTSTART:20251102T060000
END:STANDARD
BEGIN:DAYLIGHT
TZOFFSETFROM:-0500
TZOFFSETTO:-0400
TZNAME:EDT
DTSTART:20260308T070000
END:DAYLIGHT
BEGIN:STANDARD
TZOFFSETFROM:-0400
TZOFFSETTO:-0500
TZNAME:EST
DTSTART:20261101T060000
END:STANDARD
BEGIN:DAYLIGHT
TZOFFSETFROM:-0500
TZOFFSETTO:-0400
TZNAME:EDT
DTSTART:20270314T070000
END:DAYLIGHT
BEGIN:STANDARD
TZOFFSETFROM:-0400
TZOFFSETTO:-0500
TZNAME:EST
DTSTART:20271107T060000
END:STANDARD
END:VTIMEZONE
BEGIN:VEVENT
DTSTART;TZID=America/New_York:20260430T193000
DTEND;TZID=America/New_York:20260430T220000
DTSTAMP:20260420T233351
CREATED:20250108T193110Z
LAST-MODIFIED:20250807T193026Z
UID:10001338-1777577400-1777586400@enfacemagazine.com
SUMMARY:Romeo and Juliet
DESCRIPTION:Experience this reinterpretation of Shakespeare’s ubiquitous tale of star-crossed lovers\, set to the renowned score of Sergei Prokofiev. Reimagined by Philadelphia Ballet’s Resident Choreographer Juliano Nunes\, Romeo and Juliet follows the story of two young lovers from feuding families whose intense passion leads to their untimely tragic end.
URL:https://enfacemagazine.com/event/philadelphia-romeo-and-juliet-2026/2026-04-30/
LOCATION:Academy of Music\, 240 S Broad St.\, Philadelphia\, PA\, 19102\, United States
CATEGORIES:Ballet,Story ballet
ATTACH;FMTTYPE=image/png:https://enfacemagazine.com/wp-content/uploads/2025/04/PB_RandJ-e1744137359250.png
END:VEVENT
BEGIN:VEVENT
DTSTART;TZID=America/New_York:20260501T110000
DTEND;TZID=America/New_York:20260501T133000
DTSTAMP:20260420T233351
CREATED:20250108T193110Z
LAST-MODIFIED:20250807T193026Z
UID:10001339-1777633200-1777642200@enfacemagazine.com
SUMMARY:Romeo and Juliet
DESCRIPTION:Experience this reinterpretation of Shakespeare’s ubiquitous tale of star-crossed lovers\, set to the renowned score of Sergei Prokofiev. Reimagined by Philadelphia Ballet’s Resident Choreographer Juliano Nunes\, Romeo and Juliet follows the story of two young lovers from feuding families whose intense passion leads to their untimely tragic end.
URL:https://enfacemagazine.com/event/philadelphia-romeo-and-juliet-2026/2026-05-01/1/
LOCATION:Academy of Music\, 240 S Broad St.\, Philadelphia\, PA\, 19102\, United States
CATEGORIES:Ballet,Story ballet
ATTACH;FMTTYPE=image/png:https://enfacemagazine.com/wp-content/uploads/2025/04/PB_RandJ-e1744137359250.png
END:VEVENT
BEGIN:VEVENT
DTSTART;TZID=America/New_York:20260501T193000
DTEND;TZID=America/New_York:20260501T220000
DTSTAMP:20260420T233351
CREATED:20250108T193110Z
LAST-MODIFIED:20250807T193026Z
UID:10001340-1777663800-1777672800@enfacemagazine.com
SUMMARY:Romeo and Juliet
DESCRIPTION:Experience this reinterpretation of Shakespeare’s ubiquitous tale of star-crossed lovers\, set to the renowned score of Sergei Prokofiev. Reimagined by Philadelphia Ballet’s Resident Choreographer Juliano Nunes\, Romeo and Juliet follows the story of two young lovers from feuding families whose intense passion leads to their untimely tragic end.
URL:https://enfacemagazine.com/event/philadelphia-romeo-and-juliet-2026/2026-05-01/2/
LOCATION:Academy of Music\, 240 S Broad St.\, Philadelphia\, PA\, 19102\, United States
CATEGORIES:Ballet,Story ballet
ATTACH;FMTTYPE=image/png:https://enfacemagazine.com/wp-content/uploads/2025/04/PB_RandJ-e1744137359250.png
END:VEVENT
BEGIN:VEVENT
DTSTART;TZID=America/New_York:20260502T140000
DTEND;TZID=America/New_York:20260502T163000
DTSTAMP:20260420T233351
CREATED:20250108T193110Z
LAST-MODIFIED:20250807T193026Z
UID:10001341-1777730400-1777739400@enfacemagazine.com
SUMMARY:Romeo and Juliet
DESCRIPTION:Experience this reinterpretation of Shakespeare’s ubiquitous tale of star-crossed lovers\, set to the renowned score of Sergei Prokofiev. Reimagined by Philadelphia Ballet’s Resident Choreographer Juliano Nunes\, Romeo and Juliet follows the story of two young lovers from feuding families whose intense passion leads to their untimely tragic end.
URL:https://enfacemagazine.com/event/philadelphia-romeo-and-juliet-2026/2026-05-02/1/
LOCATION:Academy of Music\, 240 S Broad St.\, Philadelphia\, PA\, 19102\, United States
CATEGORIES:Ballet,Story ballet
ATTACH;FMTTYPE=image/png:https://enfacemagazine.com/wp-content/uploads/2025/04/PB_RandJ-e1744137359250.png
END:VEVENT
BEGIN:VEVENT
DTSTART;TZID=America/New_York:20260502T193000
DTEND;TZID=America/New_York:20260502T220000
DTSTAMP:20260420T233351
CREATED:20250108T193110Z
LAST-MODIFIED:20250807T193026Z
UID:10001342-1777750200-1777759200@enfacemagazine.com
SUMMARY:Romeo and Juliet
DESCRIPTION:Experience this reinterpretation of Shakespeare’s ubiquitous tale of star-crossed lovers\, set to the renowned score of Sergei Prokofiev. Reimagined by Philadelphia Ballet’s Resident Choreographer Juliano Nunes\, Romeo and Juliet follows the story of two young lovers from feuding families whose intense passion leads to their untimely tragic end.
URL:https://enfacemagazine.com/event/philadelphia-romeo-and-juliet-2026/2026-05-02/2/
LOCATION:Academy of Music\, 240 S Broad St.\, Philadelphia\, PA\, 19102\, United States
CATEGORIES:Ballet,Story ballet
ATTACH;FMTTYPE=image/png:https://enfacemagazine.com/wp-content/uploads/2025/04/PB_RandJ-e1744137359250.png
END:VEVENT
BEGIN:VEVENT
DTSTART;TZID=America/New_York:20260503T140000
DTEND;TZID=America/New_York:20260503T163000
DTSTAMP:20260420T233351
CREATED:20250108T193110Z
LAST-MODIFIED:20250807T193026Z
UID:10001343-1777816800-1777825800@enfacemagazine.com
SUMMARY:Romeo and Juliet
DESCRIPTION:Experience this reinterpretation of Shakespeare’s ubiquitous tale of star-crossed lovers\, set to the renowned score of Sergei Prokofiev. Reimagined by Philadelphia Ballet’s Resident Choreographer Juliano Nunes\, Romeo and Juliet follows the story of two young lovers from feuding families whose intense passion leads to their untimely tragic end.
URL:https://enfacemagazine.com/event/philadelphia-romeo-and-juliet-2026/2026-05-03/
LOCATION:Academy of Music\, 240 S Broad St.\, Philadelphia\, PA\, 19102\, United States
CATEGORIES:Ballet,Story ballet
ATTACH;FMTTYPE=image/png:https://enfacemagazine.com/wp-content/uploads/2025/04/PB_RandJ-e1744137359250.png
END:VEVENT
BEGIN:VEVENT
DTSTART;TZID=America/New_York:20260507T193000
DTEND;TZID=America/New_York:20260507T220000
DTSTAMP:20260420T233351
CREATED:20250108T193110Z
LAST-MODIFIED:20250807T193026Z
UID:10001344-1778182200-1778191200@enfacemagazine.com
SUMMARY:Romeo and Juliet
DESCRIPTION:Experience this reinterpretation of Shakespeare’s ubiquitous tale of star-crossed lovers\, set to the renowned score of Sergei Prokofiev. Reimagined by Philadelphia Ballet’s Resident Choreographer Juliano Nunes\, Romeo and Juliet follows the story of two young lovers from feuding families whose intense passion leads to their untimely tragic end.
URL:https://enfacemagazine.com/event/philadelphia-romeo-and-juliet-2026/2026-05-07/
LOCATION:Academy of Music\, 240 S Broad St.\, Philadelphia\, PA\, 19102\, United States
CATEGORIES:Ballet,Story ballet
ATTACH;FMTTYPE=image/png:https://enfacemagazine.com/wp-content/uploads/2025/04/PB_RandJ-e1744137359250.png
END:VEVENT
BEGIN:VEVENT
DTSTART;TZID=America/New_York:20260508T193000
DTEND;TZID=America/New_York:20260508T220000
DTSTAMP:20260420T233351
CREATED:20250108T193110Z
LAST-MODIFIED:20250807T193026Z
UID:10001345-1778268600-1778277600@enfacemagazine.com
SUMMARY:Romeo and Juliet
DESCRIPTION:Experience this reinterpretation of Shakespeare’s ubiquitous tale of star-crossed lovers\, set to the renowned score of Sergei Prokofiev. Reimagined by Philadelphia Ballet’s Resident Choreographer Juliano Nunes\, Romeo and Juliet follows the story of two young lovers from feuding families whose intense passion leads to their untimely tragic end.
URL:https://enfacemagazine.com/event/philadelphia-romeo-and-juliet-2026/2026-05-08/
LOCATION:Academy of Music\, 240 S Broad St.\, Philadelphia\, PA\, 19102\, United States
CATEGORIES:Ballet,Story ballet
ATTACH;FMTTYPE=image/png:https://enfacemagazine.com/wp-content/uploads/2025/04/PB_RandJ-e1744137359250.png
END:VEVENT
BEGIN:VEVENT
DTSTART;TZID=America/New_York:20260509T120000
DTEND;TZID=America/New_York:20260509T143000
DTSTAMP:20260420T233351
CREATED:20250108T193110Z
LAST-MODIFIED:20250807T193026Z
UID:10001346-1778328000-1778337000@enfacemagazine.com
SUMMARY:Romeo and Juliet
DESCRIPTION:Experience this reinterpretation of Shakespeare’s ubiquitous tale of star-crossed lovers\, set to the renowned score of Sergei Prokofiev. Reimagined by Philadelphia Ballet’s Resident Choreographer Juliano Nunes\, Romeo and Juliet follows the story of two young lovers from feuding families whose intense passion leads to their untimely tragic end.
URL:https://enfacemagazine.com/event/philadelphia-romeo-and-juliet-2026/2026-05-09/1/
LOCATION:Academy of Music\, 240 S Broad St.\, Philadelphia\, PA\, 19102\, United States
CATEGORIES:Ballet,Story ballet
ATTACH;FMTTYPE=image/png:https://enfacemagazine.com/wp-content/uploads/2025/04/PB_RandJ-e1744137359250.png
END:VEVENT
BEGIN:VEVENT
DTSTART;TZID=America/New_York:20260509T173000
DTEND;TZID=America/New_York:20260509T200000
DTSTAMP:20260420T233351
CREATED:20250108T193110Z
LAST-MODIFIED:20250807T193026Z
UID:10001347-1778347800-1778356800@enfacemagazine.com
SUMMARY:Romeo and Juliet
DESCRIPTION:Experience this reinterpretation of Shakespeare’s ubiquitous tale of star-crossed lovers\, set to the renowned score of Sergei Prokofiev. Reimagined by Philadelphia Ballet’s Resident Choreographer Juliano Nunes\, Romeo and Juliet follows the story of two young lovers from feuding families whose intense passion leads to their untimely tragic end.
URL:https://enfacemagazine.com/event/philadelphia-romeo-and-juliet-2026/2026-05-09/2/
LOCATION:Academy of Music\, 240 S Broad St.\, Philadelphia\, PA\, 19102\, United States
CATEGORIES:Ballet,Story ballet
ATTACH;FMTTYPE=image/png:https://enfacemagazine.com/wp-content/uploads/2025/04/PB_RandJ-e1744137359250.png
END:VEVENT
BEGIN:VEVENT
DTSTART;TZID=America/New_York:20260510T140000
DTEND;TZID=America/New_York:20260510T163000
DTSTAMP:20260420T233351
CREATED:20250108T193110Z
LAST-MODIFIED:20250807T193026Z
UID:10001348-1778421600-1778430600@enfacemagazine.com
SUMMARY:Romeo and Juliet
DESCRIPTION:Experience this reinterpretation of Shakespeare’s ubiquitous tale of star-crossed lovers\, set to the renowned score of Sergei Prokofiev. Reimagined by Philadelphia Ballet’s Resident Choreographer Juliano Nunes\, Romeo and Juliet follows the story of two young lovers from feuding families whose intense passion leads to their untimely tragic end.
URL:https://enfacemagazine.com/event/philadelphia-romeo-and-juliet-2026/2026-05-10/
LOCATION:Academy of Music\, 240 S Broad St.\, Philadelphia\, PA\, 19102\, United States
CATEGORIES:Ballet,Story ballet
ATTACH;FMTTYPE=image/png:https://enfacemagazine.com/wp-content/uploads/2025/04/PB_RandJ-e1744137359250.png
END:VEVENT
END:VCALENDAR