BEGIN:VCALENDAR
VERSION:2.0
PRODID:-//En Face Magazine - ECPv6.15.20//NONSGML v1.0//EN
CALSCALE:GREGORIAN
METHOD:PUBLISH
X-WR-CALNAME:En Face Magazine
X-ORIGINAL-URL:https://enfacemagazine.com
X-WR-CALDESC:Events for En Face Magazine
REFRESH-INTERVAL;VALUE=DURATION:PT1H
X-Robots-Tag:noindex
X-PUBLISHED-TTL:PT1H
BEGIN:VTIMEZONE
TZID:America/New_York
BEGIN:DAYLIGHT
TZOFFSETFROM:-0500
TZOFFSETTO:-0400
TZNAME:EDT
DTSTART:20230312T070000
END:DAYLIGHT
BEGIN:STANDARD
TZOFFSETFROM:-0400
TZOFFSETTO:-0500
TZNAME:EST
DTSTART:20231105T060000
END:STANDARD
BEGIN:DAYLIGHT
TZOFFSETFROM:-0500
TZOFFSETTO:-0400
TZNAME:EDT
DTSTART:20240310T070000
END:DAYLIGHT
BEGIN:STANDARD
TZOFFSETFROM:-0400
TZOFFSETTO:-0500
TZNAME:EST
DTSTART:20241103T060000
END:STANDARD
BEGIN:DAYLIGHT
TZOFFSETFROM:-0500
TZOFFSETTO:-0400
TZNAME:EDT
DTSTART:20250309T070000
END:DAYLIGHT
BEGIN:STANDARD
TZOFFSETFROM:-0400
TZOFFSETTO:-0500
TZNAME:EST
DTSTART:20251102T060000
END:STANDARD
END:VTIMEZONE
BEGIN:VEVENT
DTSTART;TZID=America/New_York:20241214T170000
DTEND;TZID=America/New_York:20241214T190000
DTSTAMP:20260425T232501
CREATED:20240731T221616Z
LAST-MODIFIED:20250813T140820Z
UID:10000221-1734195600-1734202800@enfacemagazine.com
SUMMARY:George Balanchine's The Nutcracker®
DESCRIPTION:Follow Marie on her journey through this fantastical realm as her one-of-a-kind Nutcracker Prince sets into motion a series of events that will transport you to a world filled with dancing snowflakes\, dazzling costumes\, epic mouse battles\, and breathtaking choreography. \nGeorge Balanchine’s The Nutcracker® is more than a performance; it’s a celebration of beauty and magic that will fill your soul with the spirit of the holiday season. Share this unforgettable experience with your loved ones and create cherished memories that will last a lifetime. \nPreview the Magazine >>
URL:https://enfacemagazine.com/event/george-balanchines-the-nutcracker/2024-12-14/2/
LOCATION:Academy of Music\, 240 S Broad St.\, Philadelphia\, PA\, 19102\, United States
CATEGORIES:Ballet,Family Fun,Nutcracker,Story ballet
ATTACH;FMTTYPE=image/jpeg:https://enfacemagazine.com/wp-content/uploads/2024/07/PB_24-25_season-Nut_Soldier_by_iziliaev-1-scaled-1-A7LagO.tmp_-e1724354500514.jpg
END:VEVENT
BEGIN:VEVENT
DTSTART;TZID=America/New_York:20241214T120000
DTEND;TZID=America/New_York:20241214T140000
DTSTAMP:20260425T232501
CREATED:20240731T221616Z
LAST-MODIFIED:20250813T140820Z
UID:10000220-1734177600-1734184800@enfacemagazine.com
SUMMARY:George Balanchine's The Nutcracker®
DESCRIPTION:Follow Marie on her journey through this fantastical realm as her one-of-a-kind Nutcracker Prince sets into motion a series of events that will transport you to a world filled with dancing snowflakes\, dazzling costumes\, epic mouse battles\, and breathtaking choreography. \nGeorge Balanchine’s The Nutcracker® is more than a performance; it’s a celebration of beauty and magic that will fill your soul with the spirit of the holiday season. Share this unforgettable experience with your loved ones and create cherished memories that will last a lifetime. \nPreview the Magazine >>
URL:https://enfacemagazine.com/event/george-balanchines-the-nutcracker/2024-12-14/1/
LOCATION:Academy of Music\, 240 S Broad St.\, Philadelphia\, PA\, 19102\, United States
CATEGORIES:Ballet,Family Fun,Nutcracker,Story ballet
ATTACH;FMTTYPE=image/jpeg:https://enfacemagazine.com/wp-content/uploads/2024/07/PB_24-25_season-Nut_Soldier_by_iziliaev-1-scaled-1-A7LagO.tmp_-e1724354500514.jpg
END:VEVENT
BEGIN:VEVENT
DTSTART;TZID=America/New_York:20241213T190000
DTEND;TZID=America/New_York:20241213T210000
DTSTAMP:20260425T232501
CREATED:20240731T221616Z
LAST-MODIFIED:20250813T140820Z
UID:10000219-1734116400-1734123600@enfacemagazine.com
SUMMARY:George Balanchine's The Nutcracker®
DESCRIPTION:Follow Marie on her journey through this fantastical realm as her one-of-a-kind Nutcracker Prince sets into motion a series of events that will transport you to a world filled with dancing snowflakes\, dazzling costumes\, epic mouse battles\, and breathtaking choreography. \nGeorge Balanchine’s The Nutcracker® is more than a performance; it’s a celebration of beauty and magic that will fill your soul with the spirit of the holiday season. Share this unforgettable experience with your loved ones and create cherished memories that will last a lifetime. \nPreview the Magazine >>
URL:https://enfacemagazine.com/event/george-balanchines-the-nutcracker/2024-12-13/
LOCATION:Academy of Music\, 240 S Broad St.\, Philadelphia\, PA\, 19102\, United States
CATEGORIES:Ballet,Family Fun,Nutcracker,Story ballet
ATTACH;FMTTYPE=image/jpeg:https://enfacemagazine.com/wp-content/uploads/2024/07/PB_24-25_season-Nut_Soldier_by_iziliaev-1-scaled-1-A7LagO.tmp_-e1724354500514.jpg
END:VEVENT
BEGIN:VEVENT
DTSTART;TZID=America/New_York:20241212T190000
DTEND;TZID=America/New_York:20241212T210000
DTSTAMP:20260425T232501
CREATED:20240731T221616Z
LAST-MODIFIED:20250813T140820Z
UID:10000218-1734030000-1734037200@enfacemagazine.com
SUMMARY:George Balanchine's The Nutcracker®
DESCRIPTION:Follow Marie on her journey through this fantastical realm as her one-of-a-kind Nutcracker Prince sets into motion a series of events that will transport you to a world filled with dancing snowflakes\, dazzling costumes\, epic mouse battles\, and breathtaking choreography. \nGeorge Balanchine’s The Nutcracker® is more than a performance; it’s a celebration of beauty and magic that will fill your soul with the spirit of the holiday season. Share this unforgettable experience with your loved ones and create cherished memories that will last a lifetime. \nPreview the Magazine >>
URL:https://enfacemagazine.com/event/george-balanchines-the-nutcracker/2024-12-12/
LOCATION:Academy of Music\, 240 S Broad St.\, Philadelphia\, PA\, 19102\, United States
CATEGORIES:Ballet,Family Fun,Nutcracker,Story ballet
ATTACH;FMTTYPE=image/jpeg:https://enfacemagazine.com/wp-content/uploads/2024/07/PB_24-25_season-Nut_Soldier_by_iziliaev-1-scaled-1-A7LagO.tmp_-e1724354500514.jpg
END:VEVENT
BEGIN:VEVENT
DTSTART;TZID=America/New_York:20241211T190000
DTEND;TZID=America/New_York:20241211T210000
DTSTAMP:20260425T232501
CREATED:20240731T221616Z
LAST-MODIFIED:20250813T140820Z
UID:10000217-1733943600-1733950800@enfacemagazine.com
SUMMARY:George Balanchine's The Nutcracker®
DESCRIPTION:Follow Marie on her journey through this fantastical realm as her one-of-a-kind Nutcracker Prince sets into motion a series of events that will transport you to a world filled with dancing snowflakes\, dazzling costumes\, epic mouse battles\, and breathtaking choreography. \nGeorge Balanchine’s The Nutcracker® is more than a performance; it’s a celebration of beauty and magic that will fill your soul with the spirit of the holiday season. Share this unforgettable experience with your loved ones and create cherished memories that will last a lifetime. \nPreview the Magazine >>
URL:https://enfacemagazine.com/event/george-balanchines-the-nutcracker/2024-12-11/
LOCATION:Academy of Music\, 240 S Broad St.\, Philadelphia\, PA\, 19102\, United States
CATEGORIES:Ballet,Family Fun,Nutcracker,Story ballet
ATTACH;FMTTYPE=image/jpeg:https://enfacemagazine.com/wp-content/uploads/2024/07/PB_24-25_season-Nut_Soldier_by_iziliaev-1-scaled-1-A7LagO.tmp_-e1724354500514.jpg
END:VEVENT
BEGIN:VEVENT
DTSTART;TZID=America/New_York:20241208T170000
DTEND;TZID=America/New_York:20241208T190000
DTSTAMP:20260425T232501
CREATED:20240731T221616Z
LAST-MODIFIED:20250813T140820Z
UID:10000216-1733677200-1733684400@enfacemagazine.com
SUMMARY:George Balanchine's The Nutcracker®
DESCRIPTION:Follow Marie on her journey through this fantastical realm as her one-of-a-kind Nutcracker Prince sets into motion a series of events that will transport you to a world filled with dancing snowflakes\, dazzling costumes\, epic mouse battles\, and breathtaking choreography. \nGeorge Balanchine’s The Nutcracker® is more than a performance; it’s a celebration of beauty and magic that will fill your soul with the spirit of the holiday season. Share this unforgettable experience with your loved ones and create cherished memories that will last a lifetime. \nPreview the Magazine >>
URL:https://enfacemagazine.com/event/george-balanchines-the-nutcracker/2024-12-08/2/
LOCATION:Academy of Music\, 240 S Broad St.\, Philadelphia\, PA\, 19102\, United States
CATEGORIES:Ballet,Family Fun,Nutcracker,Story ballet
ATTACH;FMTTYPE=image/jpeg:https://enfacemagazine.com/wp-content/uploads/2024/07/PB_24-25_season-Nut_Soldier_by_iziliaev-1-scaled-1-A7LagO.tmp_-e1724354500514.jpg
END:VEVENT
BEGIN:VEVENT
DTSTART;TZID=America/New_York:20241208T120000
DTEND;TZID=America/New_York:20241208T140000
DTSTAMP:20260425T232501
CREATED:20240731T221616Z
LAST-MODIFIED:20250813T140820Z
UID:10000215-1733659200-1733666400@enfacemagazine.com
SUMMARY:George Balanchine's The Nutcracker®
DESCRIPTION:Follow Marie on her journey through this fantastical realm as her one-of-a-kind Nutcracker Prince sets into motion a series of events that will transport you to a world filled with dancing snowflakes\, dazzling costumes\, epic mouse battles\, and breathtaking choreography. \nGeorge Balanchine’s The Nutcracker® is more than a performance; it’s a celebration of beauty and magic that will fill your soul with the spirit of the holiday season. Share this unforgettable experience with your loved ones and create cherished memories that will last a lifetime. \nPreview the Magazine >>
URL:https://enfacemagazine.com/event/george-balanchines-the-nutcracker/2024-12-08/1/
LOCATION:Academy of Music\, 240 S Broad St.\, Philadelphia\, PA\, 19102\, United States
CATEGORIES:Ballet,Family Fun,Nutcracker,Story ballet
ATTACH;FMTTYPE=image/jpeg:https://enfacemagazine.com/wp-content/uploads/2024/07/PB_24-25_season-Nut_Soldier_by_iziliaev-1-scaled-1-A7LagO.tmp_-e1724354500514.jpg
END:VEVENT
BEGIN:VEVENT
DTSTART;TZID=America/New_York:20241207T190000
DTEND;TZID=America/New_York:20241207T210000
DTSTAMP:20260425T232501
CREATED:20240731T221616Z
LAST-MODIFIED:20250813T140820Z
UID:10000214-1733598000-1733605200@enfacemagazine.com
SUMMARY:George Balanchine's The Nutcracker®
DESCRIPTION:Follow Marie on her journey through this fantastical realm as her one-of-a-kind Nutcracker Prince sets into motion a series of events that will transport you to a world filled with dancing snowflakes\, dazzling costumes\, epic mouse battles\, and breathtaking choreography. \nGeorge Balanchine’s The Nutcracker® is more than a performance; it’s a celebration of beauty and magic that will fill your soul with the spirit of the holiday season. Share this unforgettable experience with your loved ones and create cherished memories that will last a lifetime. \nPreview the Magazine >>
URL:https://enfacemagazine.com/event/george-balanchines-the-nutcracker/2024-12-07/2/
LOCATION:Academy of Music\, 240 S Broad St.\, Philadelphia\, PA\, 19102\, United States
CATEGORIES:Ballet,Family Fun,Nutcracker,Story ballet
ATTACH;FMTTYPE=image/jpeg:https://enfacemagazine.com/wp-content/uploads/2024/07/PB_24-25_season-Nut_Soldier_by_iziliaev-1-scaled-1-A7LagO.tmp_-e1724354500514.jpg
END:VEVENT
BEGIN:VEVENT
DTSTART;TZID=America/New_York:20241207T140000
DTEND;TZID=America/New_York:20241207T160000
DTSTAMP:20260425T232501
CREATED:20240731T221616Z
LAST-MODIFIED:20250813T140820Z
UID:10000213-1733580000-1733587200@enfacemagazine.com
SUMMARY:George Balanchine's The Nutcracker®
DESCRIPTION:Follow Marie on her journey through this fantastical realm as her one-of-a-kind Nutcracker Prince sets into motion a series of events that will transport you to a world filled with dancing snowflakes\, dazzling costumes\, epic mouse battles\, and breathtaking choreography. \nGeorge Balanchine’s The Nutcracker® is more than a performance; it’s a celebration of beauty and magic that will fill your soul with the spirit of the holiday season. Share this unforgettable experience with your loved ones and create cherished memories that will last a lifetime. \nPreview the Magazine >>
URL:https://enfacemagazine.com/event/george-balanchines-the-nutcracker/2024-12-07/1/
LOCATION:Academy of Music\, 240 S Broad St.\, Philadelphia\, PA\, 19102\, United States
CATEGORIES:Ballet,Family Fun,Nutcracker,Story ballet
ATTACH;FMTTYPE=image/jpeg:https://enfacemagazine.com/wp-content/uploads/2024/07/PB_24-25_season-Nut_Soldier_by_iziliaev-1-scaled-1-A7LagO.tmp_-e1724354500514.jpg
END:VEVENT
BEGIN:VEVENT
DTSTART;TZID=America/New_York:20241206T190000
DTEND;TZID=America/New_York:20241206T230000
DTSTAMP:20260425T232501
CREATED:20240731T221616Z
LAST-MODIFIED:20250813T140820Z
UID:10000117-1733511600-1733526000@enfacemagazine.com
SUMMARY:George Balanchine's The Nutcracker®
DESCRIPTION:Follow Marie on her journey through this fantastical realm as her one-of-a-kind Nutcracker Prince sets into motion a series of events that will transport you to a world filled with dancing snowflakes\, dazzling costumes\, epic mouse battles\, and breathtaking choreography. \nGeorge Balanchine’s The Nutcracker® is more than a performance; it’s a celebration of beauty and magic that will fill your soul with the spirit of the holiday season. Share this unforgettable experience with your loved ones and create cherished memories that will last a lifetime. \nPreview the Magazine >>
URL:https://enfacemagazine.com/event/george-balanchines-the-nutcracker/2024-12-06/
LOCATION:Academy of Music\, 240 S Broad St.\, Philadelphia\, PA\, 19102\, United States
CATEGORIES:Ballet,Family Fun,Nutcracker,Story ballet
ATTACH;FMTTYPE=image/jpeg:https://enfacemagazine.com/wp-content/uploads/2024/07/PB_24-25_season-Nut_Soldier_by_iziliaev-1-scaled-1-A7LagO.tmp_-e1724354500514.jpg
END:VEVENT
BEGIN:VEVENT
DTSTART;TZID=America/New_York:20241026T173000
DTEND;TZID=America/New_York:20241026T200000
DTSTAMP:20260425T232501
CREATED:20240731T221615Z
LAST-MODIFIED:20250813T140844Z
UID:10000263-1729963800-1729972800@enfacemagazine.com
SUMMARY:Le Corsaire
DESCRIPTION:Set sail for Le Corsaire\, a richly decorated trip across the seven seas. Join Conrad whose love for glittering treasure is usurped when he encounters the dazzling Medora. Based on the poem by Lord Byron\, Le Corsaire is full of mutinous shipmates\, love\, and the perils of the sea. Artistic Director Angel Corella’s choreography is a feast for the eyes whilst Adolphe Adam’s music fills your senses with joy. \nPreview the Magazine >>
URL:https://enfacemagazine.com/event/le-corsaire/2024-10-26/2/
LOCATION:Academy of Music\, 240 S Broad St.\, Philadelphia\, PA\, 19102\, United States
CATEGORIES:Ballet,Story ballet
ATTACH;FMTTYPE=image/jpeg:https://enfacemagazine.com/wp-content/uploads/2024/07/PB_corsair_vF_hero_by_crisman-2.45.53-PM-scaled-e1709652013434-qgbf0K.tmp_-e1724354462239.jpg
END:VEVENT
BEGIN:VEVENT
DTSTART;TZID=America/New_York:20241026T120000
DTEND;TZID=America/New_York:20241026T143000
DTSTAMP:20260425T232501
CREATED:20240731T221615Z
LAST-MODIFIED:20250813T140844Z
UID:10000262-1729944000-1729953000@enfacemagazine.com
SUMMARY:Le Corsaire
DESCRIPTION:Set sail for Le Corsaire\, a richly decorated trip across the seven seas. Join Conrad whose love for glittering treasure is usurped when he encounters the dazzling Medora. Based on the poem by Lord Byron\, Le Corsaire is full of mutinous shipmates\, love\, and the perils of the sea. Artistic Director Angel Corella’s choreography is a feast for the eyes whilst Adolphe Adam’s music fills your senses with joy. \nPreview the Magazine >>
URL:https://enfacemagazine.com/event/le-corsaire/2024-10-26/1/
LOCATION:Academy of Music\, 240 S Broad St.\, Philadelphia\, PA\, 19102\, United States
CATEGORIES:Ballet,Story ballet
ATTACH;FMTTYPE=image/jpeg:https://enfacemagazine.com/wp-content/uploads/2024/07/PB_corsair_vF_hero_by_crisman-2.45.53-PM-scaled-e1709652013434-qgbf0K.tmp_-e1724354462239.jpg
END:VEVENT
BEGIN:VEVENT
DTSTART;TZID=America/New_York:20241024T193000
DTEND;TZID=America/New_York:20241024T220000
DTSTAMP:20260425T232501
CREATED:20240731T221615Z
LAST-MODIFIED:20250813T140844Z
UID:10000261-1729798200-1729807200@enfacemagazine.com
SUMMARY:Le Corsaire
DESCRIPTION:Set sail for Le Corsaire\, a richly decorated trip across the seven seas. Join Conrad whose love for glittering treasure is usurped when he encounters the dazzling Medora. Based on the poem by Lord Byron\, Le Corsaire is full of mutinous shipmates\, love\, and the perils of the sea. Artistic Director Angel Corella’s choreography is a feast for the eyes whilst Adolphe Adam’s music fills your senses with joy. \nPreview the Magazine >>
URL:https://enfacemagazine.com/event/le-corsaire/2024-10-24/
LOCATION:Academy of Music\, 240 S Broad St.\, Philadelphia\, PA\, 19102\, United States
CATEGORIES:Ballet,Story ballet
ATTACH;FMTTYPE=image/jpeg:https://enfacemagazine.com/wp-content/uploads/2024/07/PB_corsair_vF_hero_by_crisman-2.45.53-PM-scaled-e1709652013434-qgbf0K.tmp_-e1724354462239.jpg
END:VEVENT
BEGIN:VEVENT
DTSTART;TZID=America/New_York:20241020T140000
DTEND;TZID=America/New_York:20241020T163000
DTSTAMP:20260425T232501
CREATED:20240731T221615Z
LAST-MODIFIED:20250813T140844Z
UID:10000260-1729432800-1729441800@enfacemagazine.com
SUMMARY:Le Corsaire
DESCRIPTION:Set sail for Le Corsaire\, a richly decorated trip across the seven seas. Join Conrad whose love for glittering treasure is usurped when he encounters the dazzling Medora. Based on the poem by Lord Byron\, Le Corsaire is full of mutinous shipmates\, love\, and the perils of the sea. Artistic Director Angel Corella’s choreography is a feast for the eyes whilst Adolphe Adam’s music fills your senses with joy. \nPreview the Magazine >>
URL:https://enfacemagazine.com/event/le-corsaire/2024-10-20/
LOCATION:Academy of Music\, 240 S Broad St.\, Philadelphia\, PA\, 19102\, United States
CATEGORIES:Ballet,Story ballet
ATTACH;FMTTYPE=image/jpeg:https://enfacemagazine.com/wp-content/uploads/2024/07/PB_corsair_vF_hero_by_crisman-2.45.53-PM-scaled-e1709652013434-qgbf0K.tmp_-e1724354462239.jpg
END:VEVENT
BEGIN:VEVENT
DTSTART;TZID=America/New_York:20241019T193000
DTEND;TZID=America/New_York:20241019T220000
DTSTAMP:20260425T232501
CREATED:20240731T221615Z
LAST-MODIFIED:20250813T140844Z
UID:10000259-1729366200-1729375200@enfacemagazine.com
SUMMARY:Le Corsaire
DESCRIPTION:Set sail for Le Corsaire\, a richly decorated trip across the seven seas. Join Conrad whose love for glittering treasure is usurped when he encounters the dazzling Medora. Based on the poem by Lord Byron\, Le Corsaire is full of mutinous shipmates\, love\, and the perils of the sea. Artistic Director Angel Corella’s choreography is a feast for the eyes whilst Adolphe Adam’s music fills your senses with joy. \nPreview the Magazine >>
URL:https://enfacemagazine.com/event/le-corsaire/2024-10-19/2/
LOCATION:Academy of Music\, 240 S Broad St.\, Philadelphia\, PA\, 19102\, United States
CATEGORIES:Ballet,Story ballet
ATTACH;FMTTYPE=image/jpeg:https://enfacemagazine.com/wp-content/uploads/2024/07/PB_corsair_vF_hero_by_crisman-2.45.53-PM-scaled-e1709652013434-qgbf0K.tmp_-e1724354462239.jpg
END:VEVENT
BEGIN:VEVENT
DTSTART;TZID=America/New_York:20241019T140000
DTEND;TZID=America/New_York:20241019T163000
DTSTAMP:20260425T232501
CREATED:20240731T221615Z
LAST-MODIFIED:20250813T140844Z
UID:10000258-1729346400-1729355400@enfacemagazine.com
SUMMARY:Le Corsaire
DESCRIPTION:Set sail for Le Corsaire\, a richly decorated trip across the seven seas. Join Conrad whose love for glittering treasure is usurped when he encounters the dazzling Medora. Based on the poem by Lord Byron\, Le Corsaire is full of mutinous shipmates\, love\, and the perils of the sea. Artistic Director Angel Corella’s choreography is a feast for the eyes whilst Adolphe Adam’s music fills your senses with joy. \nPreview the Magazine >>
URL:https://enfacemagazine.com/event/le-corsaire/2024-10-19/1/
LOCATION:Academy of Music\, 240 S Broad St.\, Philadelphia\, PA\, 19102\, United States
CATEGORIES:Ballet,Story ballet
ATTACH;FMTTYPE=image/jpeg:https://enfacemagazine.com/wp-content/uploads/2024/07/PB_corsair_vF_hero_by_crisman-2.45.53-PM-scaled-e1709652013434-qgbf0K.tmp_-e1724354462239.jpg
END:VEVENT
BEGIN:VEVENT
DTSTART;TZID=America/New_York:20241018T193000
DTEND;TZID=America/New_York:20241018T220000
DTSTAMP:20260425T232501
CREATED:20240731T221615Z
LAST-MODIFIED:20250813T140844Z
UID:10000116-1729279800-1729288800@enfacemagazine.com
SUMMARY:Le Corsaire
DESCRIPTION:Set sail for Le Corsaire\, a richly decorated trip across the seven seas. Join Conrad whose love for glittering treasure is usurped when he encounters the dazzling Medora. Based on the poem by Lord Byron\, Le Corsaire is full of mutinous shipmates\, love\, and the perils of the sea. Artistic Director Angel Corella’s choreography is a feast for the eyes whilst Adolphe Adam’s music fills your senses with joy. \nPreview the Magazine >>
URL:https://enfacemagazine.com/event/le-corsaire/2024-10-18/
LOCATION:Academy of Music\, 240 S Broad St.\, Philadelphia\, PA\, 19102\, United States
CATEGORIES:Ballet,Story ballet
ATTACH;FMTTYPE=image/jpeg:https://enfacemagazine.com/wp-content/uploads/2024/07/PB_corsair_vF_hero_by_crisman-2.45.53-PM-scaled-e1709652013434-qgbf0K.tmp_-e1724354462239.jpg
END:VEVENT
END:VCALENDAR