BEGIN:VCALENDAR
VERSION:2.0
PRODID:-//En Face Magazine - ECPv6.15.20//NONSGML v1.0//EN
CALSCALE:GREGORIAN
METHOD:PUBLISH
X-ORIGINAL-URL:https://enfacemagazine.com
X-WR-CALDESC:Events for En Face Magazine
REFRESH-INTERVAL;VALUE=DURATION:PT1H
X-Robots-Tag:noindex
X-PUBLISHED-TTL:PT1H
BEGIN:VTIMEZONE
TZID:America/Chicago
BEGIN:DAYLIGHT
TZOFFSETFROM:-0600
TZOFFSETTO:-0500
TZNAME:CDT
DTSTART:20230312T080000
END:DAYLIGHT
BEGIN:STANDARD
TZOFFSETFROM:-0500
TZOFFSETTO:-0600
TZNAME:CST
DTSTART:20231105T070000
END:STANDARD
BEGIN:DAYLIGHT
TZOFFSETFROM:-0600
TZOFFSETTO:-0500
TZNAME:CDT
DTSTART:20240310T080000
END:DAYLIGHT
BEGIN:STANDARD
TZOFFSETFROM:-0500
TZOFFSETTO:-0600
TZNAME:CST
DTSTART:20241103T070000
END:STANDARD
BEGIN:DAYLIGHT
TZOFFSETFROM:-0600
TZOFFSETTO:-0500
TZNAME:CDT
DTSTART:20250309T080000
END:DAYLIGHT
BEGIN:STANDARD
TZOFFSETFROM:-0500
TZOFFSETTO:-0600
TZNAME:CST
DTSTART:20251102T070000
END:STANDARD
BEGIN:DAYLIGHT
TZOFFSETFROM:-0600
TZOFFSETTO:-0500
TZNAME:CDT
DTSTART:20260308T080000
END:DAYLIGHT
BEGIN:STANDARD
TZOFFSETFROM:-0500
TZOFFSETTO:-0600
TZNAME:CST
DTSTART:20261101T070000
END:STANDARD
END:VTIMEZONE
BEGIN:VEVENT
DTSTART;TZID=America/Chicago:20250518T140000
DTEND;TZID=America/Chicago:20250518T163000
DTSTAMP:20260423T042110
CREATED:20240731T222033Z
LAST-MODIFIED:20250813T140602Z
UID:10000403-1747576800-1747585800@enfacemagazine.com
SUMMARY:Giselle
DESCRIPTION:Seduced and forsaken\, the beautiful but bereft Giselle succumbs to madness and a broken heart. Yet even in death her love for her faithless suitor saves him from the ravages of avenging ghostly maidens. Join us as TBT’s Artistic Director presents his brilliant interpretation of this iconic masterpiece.
URL:https://enfacemagazine.com/event/tbt-giselle/2025-05-18/
LOCATION:Bass Performance Hall\, 525 Commerce St\, Fort Worth\, TX\, 76102\, United States
CATEGORIES:Ballet,Story ballet
ATTACH;FMTTYPE=image/jpeg:https://enfacemagazine.com/wp-content/uploads/2024/07/TBTGiselle-e1724355489487.jpg
END:VEVENT
BEGIN:VEVENT
DTSTART;TZID=America/Chicago:20250517T200000
DTEND;TZID=America/Chicago:20250517T223000
DTSTAMP:20260423T042110
CREATED:20240731T222033Z
LAST-MODIFIED:20250813T140602Z
UID:10000402-1747512000-1747521000@enfacemagazine.com
SUMMARY:Giselle
DESCRIPTION:Seduced and forsaken\, the beautiful but bereft Giselle succumbs to madness and a broken heart. Yet even in death her love for her faithless suitor saves him from the ravages of avenging ghostly maidens. Join us as TBT’s Artistic Director presents his brilliant interpretation of this iconic masterpiece.
URL:https://enfacemagazine.com/event/tbt-giselle/2025-05-17/2/
LOCATION:Bass Performance Hall\, 525 Commerce St\, Fort Worth\, TX\, 76102\, United States
CATEGORIES:Ballet,Story ballet
ATTACH;FMTTYPE=image/jpeg:https://enfacemagazine.com/wp-content/uploads/2024/07/TBTGiselle-e1724355489487.jpg
END:VEVENT
BEGIN:VEVENT
DTSTART;TZID=America/Chicago:20250517T140000
DTEND;TZID=America/Chicago:20250517T163000
DTSTAMP:20260423T042110
CREATED:20240731T222033Z
LAST-MODIFIED:20250813T140602Z
UID:10000401-1747490400-1747499400@enfacemagazine.com
SUMMARY:Giselle
DESCRIPTION:Seduced and forsaken\, the beautiful but bereft Giselle succumbs to madness and a broken heart. Yet even in death her love for her faithless suitor saves him from the ravages of avenging ghostly maidens. Join us as TBT’s Artistic Director presents his brilliant interpretation of this iconic masterpiece.
URL:https://enfacemagazine.com/event/tbt-giselle/2025-05-17/1/
LOCATION:Bass Performance Hall\, 525 Commerce St\, Fort Worth\, TX\, 76102\, United States
CATEGORIES:Ballet,Story ballet
ATTACH;FMTTYPE=image/jpeg:https://enfacemagazine.com/wp-content/uploads/2024/07/TBTGiselle-e1724355489487.jpg
END:VEVENT
BEGIN:VEVENT
DTSTART;TZID=America/Chicago:20250516T200000
DTEND;TZID=America/Chicago:20250516T223000
DTSTAMP:20260423T042110
CREATED:20240731T222033Z
LAST-MODIFIED:20250813T140602Z
UID:10000400-1747425600-1747434600@enfacemagazine.com
SUMMARY:Giselle
DESCRIPTION:Seduced and forsaken\, the beautiful but bereft Giselle succumbs to madness and a broken heart. Yet even in death her love for her faithless suitor saves him from the ravages of avenging ghostly maidens. Join us as TBT’s Artistic Director presents his brilliant interpretation of this iconic masterpiece.
URL:https://enfacemagazine.com/event/tbt-giselle/2025-05-16/
LOCATION:Bass Performance Hall\, 525 Commerce St\, Fort Worth\, TX\, 76102\, United States
CATEGORIES:Ballet,Story ballet
ATTACH;FMTTYPE=image/jpeg:https://enfacemagazine.com/wp-content/uploads/2024/07/TBTGiselle-e1724355489487.jpg
END:VEVENT
BEGIN:VEVENT
DTSTART;TZID=America/Chicago:20250504T140000
DTEND;TZID=America/Chicago:20250504T163000
DTSTAMP:20260423T042110
CREATED:20240731T222033Z
LAST-MODIFIED:20250813T140602Z
UID:10000399-1746367200-1746376200@enfacemagazine.com
SUMMARY:Giselle
DESCRIPTION:Seduced and forsaken\, the beautiful but bereft Giselle succumbs to madness and a broken heart. Yet even in death her love for her faithless suitor saves him from the ravages of avenging ghostly maidens. Join us as TBT’s Artistic Director presents his brilliant interpretation of this iconic masterpiece.
URL:https://enfacemagazine.com/event/tbt-giselle/2025-05-04/
LOCATION:Bass Performance Hall\, 525 Commerce St\, Fort Worth\, TX\, 76102\, United States
CATEGORIES:Ballet,Story ballet
ATTACH;FMTTYPE=image/jpeg:https://enfacemagazine.com/wp-content/uploads/2024/07/TBTGiselle-e1724355489487.jpg
END:VEVENT
BEGIN:VEVENT
DTSTART;TZID=America/Chicago:20250503T200000
DTEND;TZID=America/Chicago:20250503T223000
DTSTAMP:20260423T042110
CREATED:20240731T222033Z
LAST-MODIFIED:20250813T140602Z
UID:10000398-1746302400-1746311400@enfacemagazine.com
SUMMARY:Giselle
DESCRIPTION:Seduced and forsaken\, the beautiful but bereft Giselle succumbs to madness and a broken heart. Yet even in death her love for her faithless suitor saves him from the ravages of avenging ghostly maidens. Join us as TBT’s Artistic Director presents his brilliant interpretation of this iconic masterpiece.
URL:https://enfacemagazine.com/event/tbt-giselle/2025-05-03/2/
LOCATION:Bass Performance Hall\, 525 Commerce St\, Fort Worth\, TX\, 76102\, United States
CATEGORIES:Ballet,Story ballet
ATTACH;FMTTYPE=image/jpeg:https://enfacemagazine.com/wp-content/uploads/2024/07/TBTGiselle-e1724355489487.jpg
END:VEVENT
BEGIN:VEVENT
DTSTART;TZID=America/Chicago:20250503T140000
DTEND;TZID=America/Chicago:20250503T163000
DTSTAMP:20260423T042110
CREATED:20240731T222033Z
LAST-MODIFIED:20250813T140602Z
UID:10000397-1746280800-1746289800@enfacemagazine.com
SUMMARY:Giselle
DESCRIPTION:Seduced and forsaken\, the beautiful but bereft Giselle succumbs to madness and a broken heart. Yet even in death her love for her faithless suitor saves him from the ravages of avenging ghostly maidens. Join us as TBT’s Artistic Director presents his brilliant interpretation of this iconic masterpiece.
URL:https://enfacemagazine.com/event/tbt-giselle/2025-05-03/1/
LOCATION:Bass Performance Hall\, 525 Commerce St\, Fort Worth\, TX\, 76102\, United States
CATEGORIES:Ballet,Story ballet
ATTACH;FMTTYPE=image/jpeg:https://enfacemagazine.com/wp-content/uploads/2024/07/TBTGiselle-e1724355489487.jpg
END:VEVENT
BEGIN:VEVENT
DTSTART;TZID=America/Chicago:20250502T200000
DTEND;TZID=America/Chicago:20250502T223000
DTSTAMP:20260423T042110
CREATED:20240731T222033Z
LAST-MODIFIED:20250813T140602Z
UID:10000139-1746216000-1746225000@enfacemagazine.com
SUMMARY:Giselle
DESCRIPTION:Seduced and forsaken\, the beautiful but bereft Giselle succumbs to madness and a broken heart. Yet even in death her love for her faithless suitor saves him from the ravages of avenging ghostly maidens. Join us as TBT’s Artistic Director presents his brilliant interpretation of this iconic masterpiece.
URL:https://enfacemagazine.com/event/tbt-giselle/2025-05-02/
LOCATION:Bass Performance Hall\, 525 Commerce St\, Fort Worth\, TX\, 76102\, United States
CATEGORIES:Ballet,Story ballet
ATTACH;FMTTYPE=image/jpeg:https://enfacemagazine.com/wp-content/uploads/2024/07/TBTGiselle-e1724355489487.jpg
END:VEVENT
BEGIN:VEVENT
DTSTART;TZID=America/Chicago:20250302T140000
DTEND;TZID=America/Chicago:20250302T163000
DTSTAMP:20260423T042110
CREATED:20240731T222030Z
LAST-MODIFIED:20250813T140726Z
UID:10000361-1740924000-1740933000@enfacemagazine.com
SUMMARY:International Woman
DESCRIPTION:Shibuya Blues\nBelgian choreographer Annabelle Lopez Ochoa explores the yearning for connection in today’s fast-paced world. Ranging in mood from exhilarating to pensive\, Shibuya Blues powerfully examines modern life—and modern dance. \nLamentation Variations\nInspired by legendary choreographer Martha Graham’s wrenching elegy in movement\, Lamentation\, three distinctive guest choreographers have created their own interpretations as part of the Graham Trust’s continuing commemoration of the tragedy of 9/11. \nMaple Leaf Rag\nAmong Martha Graham’s last works and set to the music of Scott Joplin\, the exuberance and whimsy of Maple Leaf Rag will thrill audiences of all ages. \nJabula\nAustralian choreographer Natalie Weir’s Jabula celebrates motion and dance through a vibrant combination of choral\, percussion\, and traditional African music. \nPreview the Magazine >>
URL:https://enfacemagazine.com/event/international-woman/2025-03-02/
LOCATION:Bass Performance Hall\, 525 Commerce St\, Fort Worth\, TX\, 76102\, United States
CATEGORIES:Ballet
ATTACH;FMTTYPE=image/jpeg:https://enfacemagazine.com/wp-content/uploads/2024/07/TBTInternationalWoman-e1724355409263.jpg
END:VEVENT
BEGIN:VEVENT
DTSTART;TZID=America/Chicago:20250301T200000
DTEND;TZID=America/Chicago:20250301T223000
DTSTAMP:20260423T042110
CREATED:20240731T222030Z
LAST-MODIFIED:20250813T140726Z
UID:10000360-1740859200-1740868200@enfacemagazine.com
SUMMARY:International Woman
DESCRIPTION:Shibuya Blues\nBelgian choreographer Annabelle Lopez Ochoa explores the yearning for connection in today’s fast-paced world. Ranging in mood from exhilarating to pensive\, Shibuya Blues powerfully examines modern life—and modern dance. \nLamentation Variations\nInspired by legendary choreographer Martha Graham’s wrenching elegy in movement\, Lamentation\, three distinctive guest choreographers have created their own interpretations as part of the Graham Trust’s continuing commemoration of the tragedy of 9/11. \nMaple Leaf Rag\nAmong Martha Graham’s last works and set to the music of Scott Joplin\, the exuberance and whimsy of Maple Leaf Rag will thrill audiences of all ages. \nJabula\nAustralian choreographer Natalie Weir’s Jabula celebrates motion and dance through a vibrant combination of choral\, percussion\, and traditional African music. \nPreview the Magazine >>
URL:https://enfacemagazine.com/event/international-woman/2025-03-01/2/
LOCATION:Bass Performance Hall\, 525 Commerce St\, Fort Worth\, TX\, 76102\, United States
CATEGORIES:Ballet
ATTACH;FMTTYPE=image/jpeg:https://enfacemagazine.com/wp-content/uploads/2024/07/TBTInternationalWoman-e1724355409263.jpg
END:VEVENT
BEGIN:VEVENT
DTSTART;TZID=America/Chicago:20250301T140000
DTEND;TZID=America/Chicago:20250301T163000
DTSTAMP:20260423T042110
CREATED:20240731T222030Z
LAST-MODIFIED:20250813T140726Z
UID:10000359-1740837600-1740846600@enfacemagazine.com
SUMMARY:International Woman
DESCRIPTION:Shibuya Blues\nBelgian choreographer Annabelle Lopez Ochoa explores the yearning for connection in today’s fast-paced world. Ranging in mood from exhilarating to pensive\, Shibuya Blues powerfully examines modern life—and modern dance. \nLamentation Variations\nInspired by legendary choreographer Martha Graham’s wrenching elegy in movement\, Lamentation\, three distinctive guest choreographers have created their own interpretations as part of the Graham Trust’s continuing commemoration of the tragedy of 9/11. \nMaple Leaf Rag\nAmong Martha Graham’s last works and set to the music of Scott Joplin\, the exuberance and whimsy of Maple Leaf Rag will thrill audiences of all ages. \nJabula\nAustralian choreographer Natalie Weir’s Jabula celebrates motion and dance through a vibrant combination of choral\, percussion\, and traditional African music. \nPreview the Magazine >>
URL:https://enfacemagazine.com/event/international-woman/2025-03-01/1/
LOCATION:Bass Performance Hall\, 525 Commerce St\, Fort Worth\, TX\, 76102\, United States
CATEGORIES:Ballet
ATTACH;FMTTYPE=image/jpeg:https://enfacemagazine.com/wp-content/uploads/2024/07/TBTInternationalWoman-e1724355409263.jpg
END:VEVENT
BEGIN:VEVENT
DTSTART;TZID=America/Chicago:20250228T200000
DTEND;TZID=America/Chicago:20250228T223000
DTSTAMP:20260423T042110
CREATED:20240731T222030Z
LAST-MODIFIED:20250813T140726Z
UID:10000358-1740772800-1740781800@enfacemagazine.com
SUMMARY:International Woman
DESCRIPTION:Shibuya Blues\nBelgian choreographer Annabelle Lopez Ochoa explores the yearning for connection in today’s fast-paced world. Ranging in mood from exhilarating to pensive\, Shibuya Blues powerfully examines modern life—and modern dance. \nLamentation Variations\nInspired by legendary choreographer Martha Graham’s wrenching elegy in movement\, Lamentation\, three distinctive guest choreographers have created their own interpretations as part of the Graham Trust’s continuing commemoration of the tragedy of 9/11. \nMaple Leaf Rag\nAmong Martha Graham’s last works and set to the music of Scott Joplin\, the exuberance and whimsy of Maple Leaf Rag will thrill audiences of all ages. \nJabula\nAustralian choreographer Natalie Weir’s Jabula celebrates motion and dance through a vibrant combination of choral\, percussion\, and traditional African music. \nPreview the Magazine >>
URL:https://enfacemagazine.com/event/international-woman/2025-02-28/
LOCATION:Bass Performance Hall\, 525 Commerce St\, Fort Worth\, TX\, 76102\, United States
CATEGORIES:Ballet
ATTACH;FMTTYPE=image/jpeg:https://enfacemagazine.com/wp-content/uploads/2024/07/TBTInternationalWoman-e1724355409263.jpg
END:VEVENT
BEGIN:VEVENT
DTSTART;TZID=America/Chicago:20250223T140000
DTEND;TZID=America/Chicago:20250223T163000
DTSTAMP:20260423T042110
CREATED:20240731T222030Z
LAST-MODIFIED:20250813T140726Z
UID:10000363-1740319200-1740328200@enfacemagazine.com
SUMMARY:International Woman
DESCRIPTION:Shibuya Blues\nBelgian choreographer Annabelle Lopez Ochoa explores the yearning for connection in today’s fast-paced world. Ranging in mood from exhilarating to pensive\, Shibuya Blues powerfully examines modern life—and modern dance. \nLamentation Variations\nInspired by legendary choreographer Martha Graham’s wrenching elegy in movement\, Lamentation\, three distinctive guest choreographers have created their own interpretations as part of the Graham Trust’s continuing commemoration of the tragedy of 9/11. \nMaple Leaf Rag\nAmong Martha Graham’s last works and set to the music of Scott Joplin\, the exuberance and whimsy of Maple Leaf Rag will thrill audiences of all ages. \nJabula\nAustralian choreographer Natalie Weir’s Jabula celebrates motion and dance through a vibrant combination of choral\, percussion\, and traditional African music. \nPreview the Magazine >>
URL:https://enfacemagazine.com/event/international-woman/2025-02-23/
LOCATION:Bass Performance Hall\, 525 Commerce St\, Fort Worth\, TX\, 76102\, United States
CATEGORIES:Ballet
ATTACH;FMTTYPE=image/jpeg:https://enfacemagazine.com/wp-content/uploads/2024/07/TBTInternationalWoman-e1724355409263.jpg
END:VEVENT
BEGIN:VEVENT
DTSTART;TZID=America/Chicago:20250222T200000
DTEND;TZID=America/Chicago:20250222T223000
DTSTAMP:20260423T042110
CREATED:20240731T222030Z
LAST-MODIFIED:20250813T140726Z
UID:10000357-1740254400-1740263400@enfacemagazine.com
SUMMARY:International Woman
DESCRIPTION:Shibuya Blues\nBelgian choreographer Annabelle Lopez Ochoa explores the yearning for connection in today’s fast-paced world. Ranging in mood from exhilarating to pensive\, Shibuya Blues powerfully examines modern life—and modern dance. \nLamentation Variations\nInspired by legendary choreographer Martha Graham’s wrenching elegy in movement\, Lamentation\, three distinctive guest choreographers have created their own interpretations as part of the Graham Trust’s continuing commemoration of the tragedy of 9/11. \nMaple Leaf Rag\nAmong Martha Graham’s last works and set to the music of Scott Joplin\, the exuberance and whimsy of Maple Leaf Rag will thrill audiences of all ages. \nJabula\nAustralian choreographer Natalie Weir’s Jabula celebrates motion and dance through a vibrant combination of choral\, percussion\, and traditional African music. \nPreview the Magazine >>
URL:https://enfacemagazine.com/event/international-woman/2025-02-22/2/
LOCATION:Bass Performance Hall\, 525 Commerce St\, Fort Worth\, TX\, 76102\, United States
CATEGORIES:Ballet
ATTACH;FMTTYPE=image/jpeg:https://enfacemagazine.com/wp-content/uploads/2024/07/TBTInternationalWoman-e1724355409263.jpg
END:VEVENT
BEGIN:VEVENT
DTSTART;TZID=America/Chicago:20250222T140000
DTEND;TZID=America/Chicago:20250222T163000
DTSTAMP:20260423T042110
CREATED:20240731T222030Z
LAST-MODIFIED:20250813T140726Z
UID:10000356-1740232800-1740241800@enfacemagazine.com
SUMMARY:International Woman
DESCRIPTION:Shibuya Blues\nBelgian choreographer Annabelle Lopez Ochoa explores the yearning for connection in today’s fast-paced world. Ranging in mood from exhilarating to pensive\, Shibuya Blues powerfully examines modern life—and modern dance. \nLamentation Variations\nInspired by legendary choreographer Martha Graham’s wrenching elegy in movement\, Lamentation\, three distinctive guest choreographers have created their own interpretations as part of the Graham Trust’s continuing commemoration of the tragedy of 9/11. \nMaple Leaf Rag\nAmong Martha Graham’s last works and set to the music of Scott Joplin\, the exuberance and whimsy of Maple Leaf Rag will thrill audiences of all ages. \nJabula\nAustralian choreographer Natalie Weir’s Jabula celebrates motion and dance through a vibrant combination of choral\, percussion\, and traditional African music. \nPreview the Magazine >>
URL:https://enfacemagazine.com/event/international-woman/2025-02-22/1/
LOCATION:Bass Performance Hall\, 525 Commerce St\, Fort Worth\, TX\, 76102\, United States
CATEGORIES:Ballet
ATTACH;FMTTYPE=image/jpeg:https://enfacemagazine.com/wp-content/uploads/2024/07/TBTInternationalWoman-e1724355409263.jpg
END:VEVENT
BEGIN:VEVENT
DTSTART;TZID=America/Chicago:20250221T200000
DTEND;TZID=America/Chicago:20250221T223000
DTSTAMP:20260423T042110
CREATED:20240731T222030Z
LAST-MODIFIED:20250813T140726Z
UID:10000138-1740168000-1740177000@enfacemagazine.com
SUMMARY:International Woman
DESCRIPTION:Shibuya Blues\nBelgian choreographer Annabelle Lopez Ochoa explores the yearning for connection in today’s fast-paced world. Ranging in mood from exhilarating to pensive\, Shibuya Blues powerfully examines modern life—and modern dance. \nLamentation Variations\nInspired by legendary choreographer Martha Graham’s wrenching elegy in movement\, Lamentation\, three distinctive guest choreographers have created their own interpretations as part of the Graham Trust’s continuing commemoration of the tragedy of 9/11. \nMaple Leaf Rag\nAmong Martha Graham’s last works and set to the music of Scott Joplin\, the exuberance and whimsy of Maple Leaf Rag will thrill audiences of all ages. \nJabula\nAustralian choreographer Natalie Weir’s Jabula celebrates motion and dance through a vibrant combination of choral\, percussion\, and traditional African music. \nPreview the Magazine >>
URL:https://enfacemagazine.com/event/international-woman/2025-02-21/
LOCATION:Bass Performance Hall\, 525 Commerce St\, Fort Worth\, TX\, 76102\, United States
CATEGORIES:Ballet
ATTACH;FMTTYPE=image/jpeg:https://enfacemagazine.com/wp-content/uploads/2024/07/TBTInternationalWoman-e1724355409263.jpg
END:VEVENT
BEGIN:VEVENT
DTSTART;TZID=America/Chicago:20240922T140000
DTEND;TZID=America/Chicago:20240922T163000
DTSTAMP:20260423T042110
CREATED:20240610T231122Z
LAST-MODIFIED:20250813T140940Z
UID:10000540-1727013600-1727022600@enfacemagazine.com
SUMMARY:Cinderella
DESCRIPTION:Ben Stevenson’s resplendent Cinderella transports audiences to a magical realm of fairy dust\, glass slippers\, and hilarious stepsisters. Rejoice as Cinderella finds her prince in one of the most beloved stories of all time. \nPreview the Magazine >>
URL:https://enfacemagazine.com/event/cinderella/2024-09-22/
LOCATION:Winspear Opera House\, 2403 Flora St\, Dallas\, TX\, 75201\, United States
CATEGORIES:Ballet,Story ballet
ATTACH;FMTTYPE=image/jpeg:https://enfacemagazine.com/wp-content/uploads/2024/06/TBTCinderella-e1724355149589.jpg
END:VEVENT
BEGIN:VEVENT
DTSTART;TZID=America/Chicago:20240921T200000
DTEND;TZID=America/Chicago:20240921T223000
DTSTAMP:20260423T042110
CREATED:20240610T231122Z
LAST-MODIFIED:20250813T140940Z
UID:10000539-1726948800-1726957800@enfacemagazine.com
SUMMARY:Cinderella
DESCRIPTION:Ben Stevenson’s resplendent Cinderella transports audiences to a magical realm of fairy dust\, glass slippers\, and hilarious stepsisters. Rejoice as Cinderella finds her prince in one of the most beloved stories of all time. \nPreview the Magazine >>
URL:https://enfacemagazine.com/event/cinderella/2024-09-21/2/
LOCATION:Winspear Opera House\, 2403 Flora St\, Dallas\, TX\, 75201\, United States
CATEGORIES:Ballet,Story ballet
ATTACH;FMTTYPE=image/jpeg:https://enfacemagazine.com/wp-content/uploads/2024/06/TBTCinderella-e1724355149589.jpg
END:VEVENT
BEGIN:VEVENT
DTSTART;TZID=America/Chicago:20240921T140000
DTEND;TZID=America/Chicago:20240921T163000
DTSTAMP:20260423T042110
CREATED:20240610T231122Z
LAST-MODIFIED:20250813T140940Z
UID:10000538-1726927200-1726936200@enfacemagazine.com
SUMMARY:Cinderella
DESCRIPTION:Ben Stevenson’s resplendent Cinderella transports audiences to a magical realm of fairy dust\, glass slippers\, and hilarious stepsisters. Rejoice as Cinderella finds her prince in one of the most beloved stories of all time. \nPreview the Magazine >>
URL:https://enfacemagazine.com/event/cinderella/2024-09-21/1/
LOCATION:Winspear Opera House\, 2403 Flora St\, Dallas\, TX\, 75201\, United States
CATEGORIES:Ballet,Story ballet
ATTACH;FMTTYPE=image/jpeg:https://enfacemagazine.com/wp-content/uploads/2024/06/TBTCinderella-e1724355149589.jpg
END:VEVENT
BEGIN:VEVENT
DTSTART;TZID=America/Chicago:20240920T200000
DTEND;TZID=America/Chicago:20240920T223000
DTSTAMP:20260423T042110
CREATED:20240610T231122Z
LAST-MODIFIED:20250813T140940Z
UID:10000537-1726862400-1726871400@enfacemagazine.com
SUMMARY:Cinderella
DESCRIPTION:Ben Stevenson’s resplendent Cinderella transports audiences to a magical realm of fairy dust\, glass slippers\, and hilarious stepsisters. Rejoice as Cinderella finds her prince in one of the most beloved stories of all time. \nPreview the Magazine >>
URL:https://enfacemagazine.com/event/cinderella/2024-09-20/
LOCATION:Winspear Opera House\, 2403 Flora St\, Dallas\, TX\, 75201\, United States
CATEGORIES:Ballet,Story ballet
ATTACH;FMTTYPE=image/jpeg:https://enfacemagazine.com/wp-content/uploads/2024/06/TBTCinderella-e1724355149589.jpg
END:VEVENT
BEGIN:VEVENT
DTSTART;TZID=America/Chicago:20240915T140000
DTEND;TZID=America/Chicago:20240915T163000
DTSTAMP:20260423T042110
CREATED:20240610T231122Z
LAST-MODIFIED:20250813T140940Z
UID:10000536-1726408800-1726417800@enfacemagazine.com
SUMMARY:Cinderella
DESCRIPTION:Ben Stevenson’s resplendent Cinderella transports audiences to a magical realm of fairy dust\, glass slippers\, and hilarious stepsisters. Rejoice as Cinderella finds her prince in one of the most beloved stories of all time. \nPreview the Magazine >>
URL:https://enfacemagazine.com/event/cinderella/2024-09-15/
LOCATION:Winspear Opera House\, 2403 Flora St\, Dallas\, TX\, 75201\, United States
CATEGORIES:Ballet,Story ballet
ATTACH;FMTTYPE=image/jpeg:https://enfacemagazine.com/wp-content/uploads/2024/06/TBTCinderella-e1724355149589.jpg
END:VEVENT
BEGIN:VEVENT
DTSTART;TZID=America/Chicago:20240914T200000
DTEND;TZID=America/Chicago:20240914T223000
DTSTAMP:20260423T042110
CREATED:20240610T231122Z
LAST-MODIFIED:20250813T140940Z
UID:10000535-1726344000-1726353000@enfacemagazine.com
SUMMARY:Cinderella
DESCRIPTION:Ben Stevenson’s resplendent Cinderella transports audiences to a magical realm of fairy dust\, glass slippers\, and hilarious stepsisters. Rejoice as Cinderella finds her prince in one of the most beloved stories of all time. \nPreview the Magazine >>
URL:https://enfacemagazine.com/event/cinderella/2024-09-14/2/
LOCATION:Winspear Opera House\, 2403 Flora St\, Dallas\, TX\, 75201\, United States
CATEGORIES:Ballet,Story ballet
ATTACH;FMTTYPE=image/jpeg:https://enfacemagazine.com/wp-content/uploads/2024/06/TBTCinderella-e1724355149589.jpg
END:VEVENT
BEGIN:VEVENT
DTSTART;TZID=America/Chicago:20240914T140000
DTEND;TZID=America/Chicago:20240914T163000
DTSTAMP:20260423T042110
CREATED:20240610T231122Z
LAST-MODIFIED:20250813T140940Z
UID:10000534-1726322400-1726331400@enfacemagazine.com
SUMMARY:Cinderella
DESCRIPTION:Ben Stevenson’s resplendent Cinderella transports audiences to a magical realm of fairy dust\, glass slippers\, and hilarious stepsisters. Rejoice as Cinderella finds her prince in one of the most beloved stories of all time. \nPreview the Magazine >>
URL:https://enfacemagazine.com/event/cinderella/2024-09-14/1/
LOCATION:Winspear Opera House\, 2403 Flora St\, Dallas\, TX\, 75201\, United States
CATEGORIES:Ballet,Story ballet
ATTACH;FMTTYPE=image/jpeg:https://enfacemagazine.com/wp-content/uploads/2024/06/TBTCinderella-e1724355149589.jpg
END:VEVENT
BEGIN:VEVENT
DTSTART;TZID=America/Chicago:20240913T200000
DTEND;TZID=America/Chicago:20240913T230000
DTSTAMP:20260423T042110
CREATED:20240610T231122Z
LAST-MODIFIED:20250813T140940Z
UID:10000016-1726257600-1726268400@enfacemagazine.com
SUMMARY:Cinderella
DESCRIPTION:Ben Stevenson’s resplendent Cinderella transports audiences to a magical realm of fairy dust\, glass slippers\, and hilarious stepsisters. Rejoice as Cinderella finds her prince in one of the most beloved stories of all time. \nPreview the Magazine >>
URL:https://enfacemagazine.com/event/cinderella/2024-09-13/
LOCATION:Winspear Opera House\, 2403 Flora St\, Dallas\, TX\, 75201\, United States
CATEGORIES:Ballet,Story ballet
ATTACH;FMTTYPE=image/jpeg:https://enfacemagazine.com/wp-content/uploads/2024/06/TBTCinderella-e1724355149589.jpg
END:VEVENT
END:VCALENDAR